BEGIN:VCALENDAR
PRODID:-//Pixl8//Eventfolio//EN
VERSION:2.0
X-WR-TIMEZONE:Europe/London
CALSCALE:GREGORIAN
METHOD:PUBLISH
CLASS:PUBLIC
BEGIN:VTIMEZONE
TZID:Europe/London
LAST-MODIFIED:20260306T231828Z
TZURL:https://www.tzurl.org/zoneinfo-outlook/Europe/London
X-LIC-LOCATION:Europe/London
BEGIN:DAYLIGHT
TZNAME:BST
TZOFFSETFROM:+0000
TZOFFSETTO:+0100
DTSTART:19700329T010000
RRULE:FREQ=YEARLY;BYMONTH=3;BYDAY=-1SU
END:DAYLIGHT
BEGIN:STANDARD
TZNAME:GMT
TZOFFSETFROM:+0100
TZOFFSETTO:+0000
DTSTART:19701025T020000
RRULE:FREQ=YEARLY;BYMONTH=10;BYDAY=-1SU
END:STANDARD
END:VTIMEZONE
BEGIN:VEVENT
DTSTART;TZID=Europe/London:20220201T140000
DTEND;TZID=Europe/London:20220201T153000
DTSTAMP:20260424T012954Z
UID:{80B64681-23A5-4FEB-AD3F65666C41B443}
LOCATION:Online
SUMMARY:A Giant Leap into Space
DESCRIPTION:This session from the CW Non-Terrestrial Networks SIG will explore the challenges of delivering telecoms services from space and the engineering obstacles which need to be overcome.\n
 \n
 Event details: https://www.cambridgewireless.co.uk/event-calendar/a-giant-leap-into-space.html
PRIORITY:1
END:VEVENT
END:VCALENDAR