BEGIN:VCALENDAR
PRODID:-//Pixl8//Eventfolio//EN
VERSION:2.0
X-WR-TIMEZONE:Europe/London
CALSCALE:GREGORIAN
METHOD:PUBLISH
CLASS:PUBLIC
BEGIN:VTIMEZONE
TZID:Europe/London
LAST-MODIFIED:20260306T231828Z
TZURL:https://www.tzurl.org/zoneinfo-outlook/Europe/London
X-LIC-LOCATION:Europe/London
BEGIN:DAYLIGHT
TZNAME:BST
TZOFFSETFROM:+0000
TZOFFSETTO:+0100
DTSTART:19700329T010000
RRULE:FREQ=YEARLY;BYMONTH=3;BYDAY=-1SU
END:DAYLIGHT
BEGIN:STANDARD
TZNAME:GMT
TZOFFSETFROM:+0100
TZOFFSETTO:+0000
DTSTART:19701025T020000
RRULE:FREQ=YEARLY;BYMONTH=10;BYDAY=-1SU
END:STANDARD
END:VTIMEZONE
BEGIN:VEVENT
DTSTART;TZID=Europe/London:20251111T130000
DTEND;TZID=Europe/London:20251111T170000
DTSTAMP:20260420T133759Z
UID:{24E0F5FB-EF55-43F0-85E35C7B35B6C504.45972}
LOCATION:CGI\, Fenchurch Street\, London
SUMMARY:Agentic AI Security
DESCRIPTION:Join the Security Privacy Identity & Trust SIG event as we explore this fascinating topic and search for practical, actionable recommendations in this new space.\n
 \n
 Event details: https://www.cambridgewireless.co.uk/event-calendar/agentic-ai-security.html
PRIORITY:1
END:VEVENT
END:VCALENDAR