BEGIN:VCALENDAR
PRODID:-//Pixl8//Eventfolio//EN
VERSION:2.0
X-WR-TIMEZONE:Europe/London
CALSCALE:GREGORIAN
METHOD:PUBLISH
CLASS:PUBLIC
BEGIN:VTIMEZONE
TZID:Europe/London
LAST-MODIFIED:20260306T231828Z
TZURL:https://www.tzurl.org/zoneinfo-outlook/Europe/London
X-LIC-LOCATION:Europe/London
BEGIN:DAYLIGHT
TZNAME:BST
TZOFFSETFROM:+0000
TZOFFSETTO:+0100
DTSTART:19700329T010000
RRULE:FREQ=YEARLY;BYMONTH=3;BYDAY=-1SU
END:DAYLIGHT
BEGIN:STANDARD
TZNAME:GMT
TZOFFSETFROM:+0100
TZOFFSETTO:+0000
DTSTART:19701025T020000
RRULE:FREQ=YEARLY;BYMONTH=10;BYDAY=-1SU
END:STANDARD
END:VTIMEZONE
BEGIN:VEVENT
DTSTART;TZID=Europe/London:20250114T150000
DTEND;TZID=Europe/London:20250114T170000
DTSTAMP:20260423T020323Z
UID:{AF995830-785C-4A7B-813CD16655D8A357}
LOCATION:Cambridge
SUMMARY:Cambridge Network Connect
DESCRIPTION:Join some of the Cambridge Network team and fellow members for an afternoon of networking over tea, cakes and fruit.\n
 \n
 Event details: https://www.cambridgewireless.co.uk/event-calendar/cambridge-network-connect.html
PRIORITY:1
END:VEVENT
END:VCALENDAR