BEGIN:VCALENDAR
PRODID:-//Pixl8//Eventfolio//EN
VERSION:2.0
X-WR-TIMEZONE:Europe/London
CALSCALE:GREGORIAN
METHOD:PUBLISH
CLASS:PUBLIC
BEGIN:VTIMEZONE
TZID:Europe/London
LAST-MODIFIED:20260306T231828Z
TZURL:https://www.tzurl.org/zoneinfo-outlook/Europe/London
X-LIC-LOCATION:Europe/London
BEGIN:DAYLIGHT
TZNAME:BST
TZOFFSETFROM:+0000
TZOFFSETTO:+0100
DTSTART:19700329T010000
RRULE:FREQ=YEARLY;BYMONTH=3;BYDAY=-1SU
END:DAYLIGHT
BEGIN:STANDARD
TZNAME:GMT
TZOFFSETFROM:+0100
TZOFFSETTO:+0000
DTSTART:19701025T020000
RRULE:FREQ=YEARLY;BYMONTH=10;BYDAY=-1SU
END:STANDARD
END:VTIMEZONE
BEGIN:VEVENT
DTSTART;TZID=Europe/London:20250716T173000
DTEND;TZID=Europe/London:20250716T193000
DTSTAMP:20260423T084055Z
UID:{C14FD87D-2FD9-4050-920AC34BAF34B01E.45854}
LOCATION:The Bradfield Centre\, 184 Cambridge Science Park\, Cambridge\, CB4 0GA
SUMMARY:Cambridge Wireless Member Summer BBQ
DESCRIPTION:Grow your network at the CW Member Networking Event\n
 \n
 Event details: https://www.cambridgewireless.co.uk/event-calendar/cambridge-wireless-member-summer-bbq.html
PRIORITY:1
END:VEVENT
END:VCALENDAR