BEGIN:VCALENDAR
PRODID:-//Pixl8//Eventfolio//EN
VERSION:2.0
X-WR-TIMEZONE:Europe/London
CALSCALE:GREGORIAN
METHOD:PUBLISH
CLASS:PUBLIC
BEGIN:VTIMEZONE
TZID:Europe/London
LAST-MODIFIED:20260306T231828Z
TZURL:https://www.tzurl.org/zoneinfo-outlook/Europe/London
X-LIC-LOCATION:Europe/London
BEGIN:DAYLIGHT
TZNAME:BST
TZOFFSETFROM:+0000
TZOFFSETTO:+0100
DTSTART:19700329T010000
RRULE:FREQ=YEARLY;BYMONTH=3;BYDAY=-1SU
END:DAYLIGHT
BEGIN:STANDARD
TZNAME:GMT
TZOFFSETFROM:+0100
TZOFFSETTO:+0000
DTSTART:19701025T020000
RRULE:FREQ=YEARLY;BYMONTH=10;BYDAY=-1SU
END:STANDARD
END:VTIMEZONE
BEGIN:VEVENT
DTSTART;TZID=Europe/London:20250128T110000
DTEND;TZID=Europe/London:20250128T114500
DTSTAMP:20260425T142210Z
UID:{A3F8EB22-F80B-430F-BA32B6B862A994F1}
LOCATION:Online
SUMMARY:Critical R&D Changes: Advanced Notification & Merged Scheme Essentials
DESCRIPTION:Significant changes to the R&D Tax Credit scheme are coming into effect for accounting periods starting on or after 1st April 2024 - join our experts on this short webinar to learn how to respond.\n
 \n
 Event details: https://www.cambridgewireless.co.uk/event-calendar/critical-rd-changes-advanced-notification-merged-scheme-essentials.html
PRIORITY:1
END:VEVENT
END:VCALENDAR