BEGIN:VCALENDAR
PRODID:-//Pixl8//Eventfolio//EN
VERSION:2.0
X-WR-TIMEZONE:Europe/London
CALSCALE:GREGORIAN
METHOD:PUBLISH
CLASS:PUBLIC
BEGIN:VTIMEZONE
TZID:Europe/London
LAST-MODIFIED:20260306T231828Z
TZURL:https://www.tzurl.org/zoneinfo-outlook/Europe/London
X-LIC-LOCATION:Europe/London
BEGIN:DAYLIGHT
TZNAME:BST
TZOFFSETFROM:+0000
TZOFFSETTO:+0100
DTSTART:19700329T010000
RRULE:FREQ=YEARLY;BYMONTH=3;BYDAY=-1SU
END:DAYLIGHT
BEGIN:STANDARD
TZNAME:GMT
TZOFFSETFROM:+0100
TZOFFSETTO:+0000
DTSTART:19701025T020000
RRULE:FREQ=YEARLY;BYMONTH=10;BYDAY=-1SU
END:STANDARD
END:VTIMEZONE
BEGIN:VEVENT
DTSTART;TZID=Europe/London:20230607T103000
DTEND;TZID=Europe/London:20230607T160000
DTSTAMP:20260424T002451Z
UID:{7D656BE7-BE4B-4EB9-8A32E280CE118209}
LOCATION:Queen Mary University of London
SUMMARY:CW Collaborate: RF Technology Showcase
DESCRIPTION:This event will enable Industry, Academe and Government to see in just one day the breadth of RF research being undertaken in UK universities, with the aim to facilitate and encourage collaborations and future developments.\n
 \n
 Event details: https://www.cambridgewireless.co.uk/event-calendar/cw-collaborate-rf-technology-showcase.html
PRIORITY:1
END:VEVENT
END:VCALENDAR