BEGIN:VCALENDAR
PRODID:-//Pixl8//Eventfolio//EN
VERSION:2.0
X-WR-TIMEZONE:Europe/London
CALSCALE:GREGORIAN
METHOD:PUBLISH
CLASS:PUBLIC
BEGIN:VTIMEZONE
TZID:Europe/London
LAST-MODIFIED:20260306T231828Z
TZURL:https://www.tzurl.org/zoneinfo-outlook/Europe/London
X-LIC-LOCATION:Europe/London
BEGIN:DAYLIGHT
TZNAME:BST
TZOFFSETFROM:+0000
TZOFFSETTO:+0100
DTSTART:19700329T010000
RRULE:FREQ=YEARLY;BYMONTH=3;BYDAY=-1SU
END:DAYLIGHT
BEGIN:STANDARD
TZNAME:GMT
TZOFFSETFROM:+0100
TZOFFSETTO:+0000
DTSTART:19701025T020000
RRULE:FREQ=YEARLY;BYMONTH=10;BYDAY=-1SU
END:STANDARD
END:VTIMEZONE
BEGIN:VEVENT
DTSTART;TZID=Europe/London:20260630T083000
DTEND;TZID=Europe/London:20260701T163000
DTSTAMP:20260423T084744Z
UID:{CE988A47-1338-4126-A716C8AAC8D5940C}
LOCATION:Cambridge
SUMMARY:Electronics for Extreme Environments Conference
DESCRIPTION:The Electronics for Extreme Environments 2026 Conference focuses on electronics that must endure at high and low temperatures, high field strengths, and severe mechanical and environmental conditions\n
 \n
 Event details: https://www.cambridgewireless.co.uk/event-calendar/electronics-for-extreme-environments-conference.html
PRIORITY:1
END:VEVENT
END:VCALENDAR