BEGIN:VCALENDAR
PRODID:-//Pixl8//Eventfolio//EN
VERSION:2.0
X-WR-TIMEZONE:Europe/London
CALSCALE:GREGORIAN
METHOD:PUBLISH
CLASS:PUBLIC
BEGIN:VTIMEZONE
TZID:Europe/London
LAST-MODIFIED:20260306T231828Z
TZURL:https://www.tzurl.org/zoneinfo-outlook/Europe/London
X-LIC-LOCATION:Europe/London
BEGIN:DAYLIGHT
TZNAME:BST
TZOFFSETFROM:+0000
TZOFFSETTO:+0100
DTSTART:19700329T010000
RRULE:FREQ=YEARLY;BYMONTH=3;BYDAY=-1SU
END:DAYLIGHT
BEGIN:STANDARD
TZNAME:GMT
TZOFFSETFROM:+0100
TZOFFSETTO:+0000
DTSTART:19701025T020000
RRULE:FREQ=YEARLY;BYMONTH=10;BYDAY=-1SU
END:STANDARD
END:VTIMEZONE
BEGIN:VEVENT
DTSTART;TZID=Europe/London:20260602T083000
DTEND;TZID=Europe/London:20260602T113000
DTSTAMP:20260422T061900Z
UID:{F0A75307-EC7C-4299-A9E97595399F9C2A}
LOCATION:Cambridge
SUMMARY:From Innovation to Impact
DESCRIPTION:​Enabling the next generation of science-driven companies \n
 ​For Researchers, Spin-outs and Start-ups\n
 \n
 Event details: https://www.cambridgewireless.co.uk/event-calendar/from-innovation-to-impact.html
PRIORITY:1
END:VEVENT
END:VCALENDAR