BEGIN:VCALENDAR
PRODID:-//Pixl8//Eventfolio//EN
VERSION:2.0
X-WR-TIMEZONE:Europe/London
CALSCALE:GREGORIAN
METHOD:PUBLISH
CLASS:PUBLIC
BEGIN:VTIMEZONE
TZID:Europe/London
LAST-MODIFIED:20260306T231828Z
TZURL:https://www.tzurl.org/zoneinfo-outlook/Europe/London
X-LIC-LOCATION:Europe/London
BEGIN:DAYLIGHT
TZNAME:BST
TZOFFSETFROM:+0000
TZOFFSETTO:+0100
DTSTART:19700329T010000
RRULE:FREQ=YEARLY;BYMONTH=3;BYDAY=-1SU
END:DAYLIGHT
BEGIN:STANDARD
TZNAME:GMT
TZOFFSETFROM:+0100
TZOFFSETTO:+0000
DTSTART:19701025T020000
RRULE:FREQ=YEARLY;BYMONTH=10;BYDAY=-1SU
END:STANDARD
END:VTIMEZONE
BEGIN:VEVENT
DTSTART;TZID=Europe/London:20251002T170000
DTEND;TZID=Europe/London:20251002T203000
DTSTAMP:20260423T143726Z
UID:{3EC00C5D-2319-41E4-B9E6E4DE28952C5E.45932}
LOCATION:Homerton College\, University of Cambridge
SUMMARY:Homerton Changemakers Catalyst Fund Showcase
DESCRIPTION:The Changemakers Catalyst Fund is an annual scheme to help accelerate the development of student-led initiatives with capacity for making change in society, business, or policy.\n
 \n
 Event details: https://www.cambridgewireless.co.uk/event-calendar/homerton-changemakers2025.html
PRIORITY:1
END:VEVENT
END:VCALENDAR