BEGIN:VCALENDAR
PRODID:-//Pixl8//Eventfolio//EN
VERSION:2.0
X-WR-TIMEZONE:Europe/London
CALSCALE:GREGORIAN
METHOD:PUBLISH
CLASS:PUBLIC
BEGIN:VTIMEZONE
TZID:Europe/London
LAST-MODIFIED:20260306T231828Z
TZURL:https://www.tzurl.org/zoneinfo-outlook/Europe/London
X-LIC-LOCATION:Europe/London
BEGIN:DAYLIGHT
TZNAME:BST
TZOFFSETFROM:+0000
TZOFFSETTO:+0100
DTSTART:19700329T010000
RRULE:FREQ=YEARLY;BYMONTH=3;BYDAY=-1SU
END:DAYLIGHT
BEGIN:STANDARD
TZNAME:GMT
TZOFFSETFROM:+0100
TZOFFSETTO:+0000
DTSTART:19701025T020000
RRULE:FREQ=YEARLY;BYMONTH=10;BYDAY=-1SU
END:STANDARD
END:VTIMEZONE
BEGIN:VEVENT
DTSTART;TZID=Europe/London:20230215T133000
DTEND;TZID=Europe/London:20230215T171500
DTSTAMP:20260424T120147Z
UID:{C71B559E-E11C-428D-90F1301C5167AB5E}
LOCATION:Digital Catapult
SUMMARY:Mixed Reality Content - Virtually a Done Deal?
DESCRIPTION:This event features broadcasting experts discussing the current use of mixed reality and immersive display technologies in content creation for TV, film and other media, and suggesting opportunities for new applications using the latest software and devices.\n
 \n
 Event details: https://www.cambridgewireless.co.uk/event-calendar/mixed-reality-content-virtually-a-done-deal.html
PRIORITY:1
END:VEVENT
END:VCALENDAR