BEGIN:VCALENDAR
PRODID:-//Pixl8//Eventfolio//EN
VERSION:2.0
X-WR-TIMEZONE:Europe/London
CALSCALE:GREGORIAN
METHOD:PUBLISH
CLASS:PUBLIC
BEGIN:VTIMEZONE
TZID:Europe/London
LAST-MODIFIED:20260306T231828Z
TZURL:https://www.tzurl.org/zoneinfo-outlook/Europe/London
X-LIC-LOCATION:Europe/London
BEGIN:DAYLIGHT
TZNAME:BST
TZOFFSETFROM:+0000
TZOFFSETTO:+0100
DTSTART:19700329T010000
RRULE:FREQ=YEARLY;BYMONTH=3;BYDAY=-1SU
END:DAYLIGHT
BEGIN:STANDARD
TZNAME:GMT
TZOFFSETFROM:+0100
TZOFFSETTO:+0000
DTSTART:19701025T020000
RRULE:FREQ=YEARLY;BYMONTH=10;BYDAY=-1SU
END:STANDARD
END:VTIMEZONE
BEGIN:VEVENT
DTSTART;TZID=Europe/London:20240710T133000
DTEND;TZID=Europe/London:20240710T172000
DTSTAMP:20260419T213635Z
UID:{FACA51A1-F0A9-422A-8C2A3D362002A4F0}
LOCATION:The Bradfield Centre\, 184 Cambridge Science Park\, Cambridge\, CB4 0GA
SUMMARY:Navigating the AI revolution in PNT
DESCRIPTION:Join the Location SIG and the Royal Institute of Navigation at an event to discuss where we think AI can have the most significant impact on Positioning Navigation and Timing.\n
 \n
 Event details: https://www.cambridgewireless.co.uk/event-calendar/navigating-the-ai-revolution-in-pnt.html
PRIORITY:1
END:VEVENT
END:VCALENDAR