BEGIN:VCALENDAR
PRODID:-//Pixl8//Eventfolio//EN
VERSION:2.0
X-WR-TIMEZONE:Europe/London
CALSCALE:GREGORIAN
METHOD:PUBLISH
CLASS:PUBLIC
BEGIN:VTIMEZONE
TZID:Europe/London
LAST-MODIFIED:20260306T231828Z
TZURL:https://www.tzurl.org/zoneinfo-outlook/Europe/London
X-LIC-LOCATION:Europe/London
BEGIN:DAYLIGHT
TZNAME:BST
TZOFFSETFROM:+0000
TZOFFSETTO:+0100
DTSTART:19700329T010000
RRULE:FREQ=YEARLY;BYMONTH=3;BYDAY=-1SU
END:DAYLIGHT
BEGIN:STANDARD
TZNAME:GMT
TZOFFSETFROM:+0100
TZOFFSETTO:+0000
DTSTART:19701025T020000
RRULE:FREQ=YEARLY;BYMONTH=10;BYDAY=-1SU
END:STANDARD
END:VTIMEZONE
BEGIN:VEVENT
DTSTART;TZID=Europe/London:20240312T140000
DTEND;TZID=Europe/London:20240312T170000
DTSTAMP:20260424T175846Z
UID:{5AEC5334-1D9F-42DB-9EC409A352BF8815}
LOCATION:Digital Catapult
SUMMARY:New Technologies raise the bar at the Olympics
DESCRIPTION:Join the Content Production & Delivery SIG as they showcase and explain some of the ways that new technological developments are changing, explore how we create, transmit, broadcast and consume “content” from events like the Olympics\n
 \n
 Event details: https://www.cambridgewireless.co.uk/event-calendar/new-technologies-raise-the-bar-at-the-olympics.html
PRIORITY:1
END:VEVENT
END:VCALENDAR