BEGIN:VCALENDAR
PRODID:-//Pixl8//Eventfolio//EN
VERSION:2.0
X-WR-TIMEZONE:Europe/London
CALSCALE:GREGORIAN
METHOD:PUBLISH
CLASS:PUBLIC
BEGIN:VTIMEZONE
TZID:Europe/London
LAST-MODIFIED:20260306T231828Z
TZURL:https://www.tzurl.org/zoneinfo-outlook/Europe/London
X-LIC-LOCATION:Europe/London
BEGIN:DAYLIGHT
TZNAME:BST
TZOFFSETFROM:+0000
TZOFFSETTO:+0100
DTSTART:19700329T010000
RRULE:FREQ=YEARLY;BYMONTH=3;BYDAY=-1SU
END:DAYLIGHT
BEGIN:STANDARD
TZNAME:GMT
TZOFFSETFROM:+0100
TZOFFSETTO:+0000
DTSTART:19701025T020000
RRULE:FREQ=YEARLY;BYMONTH=10;BYDAY=-1SU
END:STANDARD
END:VTIMEZONE
BEGIN:VEVENT
DTSTART;TZID=Europe/London:20231121T103000
DTEND;TZID=Europe/London:20231121T153500
DTSTAMP:20260420T092913Z
UID:{A26FD181-E7CD-491B-972AF42D298BD9C1}
LOCATION:PwC
SUMMARY:Positioning for Automation in AgriFood
DESCRIPTION:Join the Location Group to hear speakers from a range of industries giving their perspectives on the impact of different technological developments on agricultural sustainability and efficiency – both now and in the future.\n
 \n
 Event details: https://www.cambridgewireless.co.uk/event-calendar/positioning-for-automation-in-agrifood.html
PRIORITY:1
END:VEVENT
END:VCALENDAR