BEGIN:VCALENDAR
PRODID:-//Pixl8//Eventfolio//EN
VERSION:2.0
X-WR-TIMEZONE:Europe/London
CALSCALE:GREGORIAN
METHOD:PUBLISH
CLASS:PUBLIC
BEGIN:VTIMEZONE
TZID:Europe/London
LAST-MODIFIED:20260306T231828Z
TZURL:https://www.tzurl.org/zoneinfo-outlook/Europe/London
X-LIC-LOCATION:Europe/London
BEGIN:DAYLIGHT
TZNAME:BST
TZOFFSETFROM:+0000
TZOFFSETTO:+0100
DTSTART:19700329T010000
RRULE:FREQ=YEARLY;BYMONTH=3;BYDAY=-1SU
END:DAYLIGHT
BEGIN:STANDARD
TZNAME:GMT
TZOFFSETFROM:+0100
TZOFFSETTO:+0000
DTSTART:19701025T020000
RRULE:FREQ=YEARLY;BYMONTH=10;BYDAY=-1SU
END:STANDARD
END:VTIMEZONE
BEGIN:VEVENT
DTSTART;TZID=Europe/London:20240925T133000
DTEND;TZID=Europe/London:20240925T171500
DTSTAMP:20260423T143441Z
UID:{5F59A598-4460-41EC-918114DDEBEFC6BF}
LOCATION:Sidney Sussex College
SUMMARY:RAN architecture evolution towards the 6G vision
DESCRIPTION:Join us for an update on the ongoing evolution of RAN architectures including the “vision” for 6G architectures; why 6G is required (from an architectural perspective); virtualisation underpinning this future direction and how we get to the 6G vision.\n
 \n
 Event details: https://www.cambridgewireless.co.uk/event-calendar/ran-architecture-evolution-towards-the-6g-vision.html
PRIORITY:1
END:VEVENT
END:VCALENDAR