BEGIN:VCALENDAR
PRODID:-//Pixl8//Eventfolio//EN
VERSION:2.0
X-WR-TIMEZONE:Europe/London
CALSCALE:GREGORIAN
METHOD:PUBLISH
CLASS:PUBLIC
BEGIN:VTIMEZONE
TZID:Europe/London
LAST-MODIFIED:20260306T231828Z
TZURL:https://www.tzurl.org/zoneinfo-outlook/Europe/London
X-LIC-LOCATION:Europe/London
BEGIN:DAYLIGHT
TZNAME:BST
TZOFFSETFROM:+0000
TZOFFSETTO:+0100
DTSTART:19700329T010000
RRULE:FREQ=YEARLY;BYMONTH=3;BYDAY=-1SU
END:DAYLIGHT
BEGIN:STANDARD
TZNAME:GMT
TZOFFSETFROM:+0100
TZOFFSETTO:+0000
DTSTART:19701025T020000
RRULE:FREQ=YEARLY;BYMONTH=10;BYDAY=-1SU
END:STANDARD
END:VTIMEZONE
BEGIN:VEVENT
DTSTART;TZID=Europe/London:20220705T133000
DTEND;TZID=Europe/London:20220705T163000
DTSTAMP:20260423T044039Z
UID:{1C9918CC-8CF9-40BA-92C26DC8F525B19E}
LOCATION:XCHG Spaces
SUMMARY:Serving special places with small cells and DAS
DESCRIPTION:Join us at this in-person Small Cell SIG event to hear from experts who have pushed back the design boundaries to create robust systems in iconic and overlooked venues using the latest in small cell, DAS and RF technologies.\n
 \n
 Event details: https://www.cambridgewireless.co.uk/event-calendar/serving-special-places-with-small-cells-and-das.html
PRIORITY:1
END:VEVENT
END:VCALENDAR