BEGIN:VCALENDAR
PRODID:-//Pixl8//Eventfolio//EN
VERSION:2.0
X-WR-TIMEZONE:Europe/London
CALSCALE:GREGORIAN
METHOD:PUBLISH
CLASS:PUBLIC
BEGIN:VTIMEZONE
TZID:Europe/London
LAST-MODIFIED:20260306T231828Z
TZURL:https://www.tzurl.org/zoneinfo-outlook/Europe/London
X-LIC-LOCATION:Europe/London
BEGIN:DAYLIGHT
TZNAME:BST
TZOFFSETFROM:+0000
TZOFFSETTO:+0100
DTSTART:19700329T010000
RRULE:FREQ=YEARLY;BYMONTH=3;BYDAY=-1SU
END:DAYLIGHT
BEGIN:STANDARD
TZNAME:GMT
TZOFFSETFROM:+0100
TZOFFSETTO:+0000
DTSTART:19701025T020000
RRULE:FREQ=YEARLY;BYMONTH=10;BYDAY=-1SU
END:STANDARD
END:VTIMEZONE
BEGIN:VEVENT
DTSTART;TZID=Europe/London:20250501T130000
DTEND;TZID=Europe/London:20250501T170000
DTSTAMP:20260421T064902Z
UID:{04CC8E74-4DAE-4E41-957C46031E8FA7A8.45778}
LOCATION:Penta Hotel Reading\, Oxford Rd\, Reading RG1 7RH\, United Kingdom
SUMMARY:Shared RAN – Why Not?
DESCRIPTION:Join us for the inaugural event hosted by the Mobile Networks SIG. This group has been formed from the Enhanced Mobile Broadband Group, the Small Cell Group and the Virtual Networks Group.\n
 \n
 Event details: https://www.cambridgewireless.co.uk/event-calendar/shared-ran-why-not.html
PRIORITY:1
END:VEVENT
END:VCALENDAR