BEGIN:VCALENDAR
PRODID:-//Pixl8//Eventfolio//EN
VERSION:2.0
X-WR-TIMEZONE:Europe/London
CALSCALE:GREGORIAN
METHOD:PUBLISH
CLASS:PUBLIC
BEGIN:VTIMEZONE
TZID:Europe/London
LAST-MODIFIED:20260306T231828Z
TZURL:https://www.tzurl.org/zoneinfo-outlook/Europe/London
X-LIC-LOCATION:Europe/London
BEGIN:DAYLIGHT
TZNAME:BST
TZOFFSETFROM:+0000
TZOFFSETTO:+0100
DTSTART:19700329T010000
RRULE:FREQ=YEARLY;BYMONTH=3;BYDAY=-1SU
END:DAYLIGHT
BEGIN:STANDARD
TZNAME:GMT
TZOFFSETFROM:+0100
TZOFFSETTO:+0000
DTSTART:19701025T020000
RRULE:FREQ=YEARLY;BYMONTH=10;BYDAY=-1SU
END:STANDARD
END:VTIMEZONE
BEGIN:VEVENT
DTSTART;TZID=Europe/London:20220614T130000
DTEND;TZID=Europe/London:20220614T180000
DTSTAMP:20260423T104533Z
UID:{996B01F2-53E6-43F3-9E81235A75011298}
LOCATION:The Bradfield Centre\, 184 Cambridge Science Park\, Cambridge\, CB4 0GA
SUMMARY:The Rise of the Private Network
DESCRIPTION:This event from the Virtual Networks SIG will look at the different levels of complexity involved with the building of 5G private networks, and the range of private network solutions that are available.\n
 \n
 Event details: https://www.cambridgewireless.co.uk/event-calendar/the-rise-of-the-private-network.html
PRIORITY:1
END:VEVENT
END:VCALENDAR