BEGIN:VCALENDAR
PRODID:-//Pixl8//Eventfolio//EN
VERSION:2.0
X-WR-TIMEZONE:Europe/London
CALSCALE:GREGORIAN
METHOD:PUBLISH
CLASS:PUBLIC
BEGIN:VTIMEZONE
TZID:Europe/London
LAST-MODIFIED:20260306T231828Z
TZURL:https://www.tzurl.org/zoneinfo-outlook/Europe/London
X-LIC-LOCATION:Europe/London
BEGIN:DAYLIGHT
TZNAME:BST
TZOFFSETFROM:+0000
TZOFFSETTO:+0100
DTSTART:19700329T010000
RRULE:FREQ=YEARLY;BYMONTH=3;BYDAY=-1SU
END:DAYLIGHT
BEGIN:STANDARD
TZNAME:GMT
TZOFFSETFROM:+0100
TZOFFSETTO:+0000
DTSTART:19701025T020000
RRULE:FREQ=YEARLY;BYMONTH=10;BYDAY=-1SU
END:STANDARD
END:VTIMEZONE
BEGIN:VEVENT
DTSTART;TZID=Europe/London:20231213T140000
DTEND;TZID=Europe/London:20231213T173000
DTSTAMP:20260423T230357Z
UID:{AA8E4AD2-D01B-412E-93B3D21F94EF7B31}
LOCATION:Jesus College\, University of Cambridge
SUMMARY:Upcycling, recycling and de-orbiting satellites
DESCRIPTION:Enter the world of satellite upcycling, recycling and de-orbiting at the next Non-Terrestrial Networks SIG event\n
 \n
 Event details: https://www.cambridgewireless.co.uk/event-calendar/upcycling-recycling-and-de-orbiting-satellites.html
PRIORITY:1
END:VEVENT
END:VCALENDAR