BEGIN:VCALENDAR
PRODID:-//Pixl8//Eventfolio//EN
VERSION:2.0
X-WR-TIMEZONE:Europe/London
CALSCALE:GREGORIAN
METHOD:PUBLISH
CLASS:PUBLIC
BEGIN:VTIMEZONE
TZID:Europe/London
LAST-MODIFIED:20260306T231828Z
TZURL:https://www.tzurl.org/zoneinfo-outlook/Europe/London
X-LIC-LOCATION:Europe/London
BEGIN:DAYLIGHT
TZNAME:BST
TZOFFSETFROM:+0000
TZOFFSETTO:+0100
DTSTART:19700329T010000
RRULE:FREQ=YEARLY;BYMONTH=3;BYDAY=-1SU
END:DAYLIGHT
BEGIN:STANDARD
TZNAME:GMT
TZOFFSETFROM:+0100
TZOFFSETTO:+0000
DTSTART:19701025T020000
RRULE:FREQ=YEARLY;BYMONTH=10;BYDAY=-1SU
END:STANDARD
END:VTIMEZONE
BEGIN:VEVENT
DTSTART;TZID=Europe/London:20250509T133000
DTEND;TZID=Europe/London:20250509T173000
DTSTAMP:20260422T074538Z
UID:{CA10EAFD-667B-495C-A4395906B10B2215.45786}
LOCATION:RAF Northolt\, West End Road\, Ruislip\, London\, Middlesex\, HA4 6NG.
SUMMARY:Visit to the Polish Air Force Exhibition at RAF Northolt
DESCRIPTION:The Wireless Heritage SIG has an exclusive opportunity for 10 Cambridge Wireless members to visit to the Polish Air Force Exhibition at RAF Northolt.\n
 \n
 Event details: https://www.cambridgewireless.co.uk/event-calendar/visit-to-the-polish-air-force-exhibition-at-raf-northolt.html
PRIORITY:1
END:VEVENT
END:VCALENDAR