BEGIN:VCALENDAR
PRODID:-//Pixl8//Eventfolio//EN
VERSION:2.0
X-WR-TIMEZONE:Europe/London
CALSCALE:GREGORIAN
METHOD:PUBLISH
CLASS:PUBLIC
BEGIN:VTIMEZONE
TZID:Europe/London
LAST-MODIFIED:20260306T231828Z
TZURL:https://www.tzurl.org/zoneinfo-outlook/Europe/London
X-LIC-LOCATION:Europe/London
BEGIN:DAYLIGHT
TZNAME:BST
TZOFFSETFROM:+0000
TZOFFSETTO:+0100
DTSTART:19700329T010000
RRULE:FREQ=YEARLY;BYMONTH=3;BYDAY=-1SU
END:DAYLIGHT
BEGIN:STANDARD
TZNAME:GMT
TZOFFSETFROM:+0100
TZOFFSETTO:+0000
DTSTART:19701025T020000
RRULE:FREQ=YEARLY;BYMONTH=10;BYDAY=-1SU
END:STANDARD
END:VTIMEZONE
BEGIN:VEVENT
DTSTART;TZID=Europe/London:20220512T133000
DTEND;TZID=Europe/London:20220512T171500
DTSTAMP:20260423T084141Z
UID:{4116620E-CC1E-4F73-9E52BA9D84F2C68D}
LOCATION:Digital Catapult
SUMMARY:xHaul: Towards an Integrated 5G Transport Network Architecture
DESCRIPTION:This event from the CW Enhanced Mobile Broadband Group will explore the reality and vision for xHaul transport networks in the future.\n
 \n
 Event details: https://www.cambridgewireless.co.uk/event-calendar/xhaul-towards-an-integrated-5g-transport-network-architecture.html
PRIORITY:1
END:VEVENT
END:VCALENDAR